BEGIN:VCALENDAR
VERSION:2.0
PRODID:-//Pleasant Run, Sarah Shank &amp; Whispering Hills - ECPv6.15.15//NONSGML v1.0//EN
CALSCALE:GREGORIAN
METHOD:PUBLISH
X-WR-CALNAME:Pleasant Run, Sarah Shank &amp; Whispering Hills
X-ORIGINAL-URL:https://prssgolf.com
X-WR-CALDESC:Events for Pleasant Run, Sarah Shank &amp; Whispering Hills
REFRESH-INTERVAL;VALUE=DURATION:PT1H
X-Robots-Tag:noindex
X-PUBLISHED-TTL:PT1H
BEGIN:VTIMEZONE
TZID:America/Toronto
BEGIN:DAYLIGHT
TZOFFSETFROM:-0500
TZOFFSETTO:-0400
TZNAME:EDT
DTSTART:20210314T070000
END:DAYLIGHT
BEGIN:STANDARD
TZOFFSETFROM:-0400
TZOFFSETTO:-0500
TZNAME:EST
DTSTART:20211107T060000
END:STANDARD
BEGIN:DAYLIGHT
TZOFFSETFROM:-0500
TZOFFSETTO:-0400
TZNAME:EDT
DTSTART:20220313T070000
END:DAYLIGHT
BEGIN:STANDARD
TZOFFSETFROM:-0400
TZOFFSETTO:-0500
TZNAME:EST
DTSTART:20221106T060000
END:STANDARD
BEGIN:DAYLIGHT
TZOFFSETFROM:-0500
TZOFFSETTO:-0400
TZNAME:EDT
DTSTART:20230312T070000
END:DAYLIGHT
BEGIN:STANDARD
TZOFFSETFROM:-0400
TZOFFSETTO:-0500
TZNAME:EST
DTSTART:20231105T060000
END:STANDARD
BEGIN:DAYLIGHT
TZOFFSETFROM:-0500
TZOFFSETTO:-0400
TZNAME:EDT
DTSTART:20240310T070000
END:DAYLIGHT
BEGIN:STANDARD
TZOFFSETFROM:-0400
TZOFFSETTO:-0500
TZNAME:EST
DTSTART:20241103T060000
END:STANDARD
BEGIN:DAYLIGHT
TZOFFSETFROM:-0500
TZOFFSETTO:-0400
TZNAME:EDT
DTSTART:20250309T070000
END:DAYLIGHT
BEGIN:STANDARD
TZOFFSETFROM:-0400
TZOFFSETTO:-0500
TZNAME:EST
DTSTART:20251102T060000
END:STANDARD
BEGIN:DAYLIGHT
TZOFFSETFROM:-0500
TZOFFSETTO:-0400
TZNAME:EDT
DTSTART:20260308T070000
END:DAYLIGHT
BEGIN:STANDARD
TZOFFSETFROM:-0400
TZOFFSETTO:-0500
TZNAME:EST
DTSTART:20261101T060000
END:STANDARD
END:VTIMEZONE
BEGIN:VEVENT
DTSTART;VALUE=DATE:20220723
DTEND;VALUE=DATE:20220724
DTSTAMP:20260424T005903
CREATED:20220630T123816Z
LAST-MODIFIED:20220630T123816Z
UID:6869-1658534400-1658620799@prssgolf.com
SUMMARY:City Amateur
DESCRIPTION:Indianapolis City Amateur\nPresented by Central Indiana McDonald’s – Sarah Shank Golf Course\nJuly 23rd & 24th\n36-Hole Stroke Play Event \nOverall Champion\nSenior (50) Champion\nHandicap Champion \nEntry Fee $85.00/person \nWalking is complimentary for both days\nCart Fee of $18 for those riding each day \nEntries can be mailed in to:\nSarah Shank GC\n2901 S. Keystone Ave.\nIndianapolis\, IN 46203 \nor called in over the phone to (317) 784-0631.
URL:https://prssgolf.com/event/city-amateur/
CATEGORIES:Sarah Shank
ATTACH;FMTTYPE=image/png:https://prssgolf.com/wp-content/uploads/2022/06/2022-Sarah-Shank-City-Amateur-pleasant-run-sarah-shank-Facebook-Event-Cover.png
END:VEVENT
BEGIN:VEVENT
DTSTART;VALUE=DATE:20220724
DTEND;VALUE=DATE:20220725
DTSTAMP:20260424T005903
CREATED:20220630T123844Z
LAST-MODIFIED:20220630T123844Z
UID:6875-1658620800-1658707199@prssgolf.com
SUMMARY:City Amateur
DESCRIPTION:Indianapolis City Amateur\nPresented by Central Indiana McDonald’s – Sarah Shank Golf Course\nJuly 23rd & 24th\n36-Hole Stroke Play Event \nOverall Champion\nSenior (50) Champion\nHandicap Champion \nEntry Fee $85.00/person \nWalking is complimentary for both days\nCart Fee of $18 for those riding each day \nEntries can be mailed in to:\nSarah Shank GC\n2901 S. Keystone Ave.\nIndianapolis\, IN 46203 \nor called in over the phone to (317) 784-0631.
URL:https://prssgolf.com/event/city-amateur-2/
CATEGORIES:Sarah Shank
ATTACH;FMTTYPE=image/png:https://prssgolf.com/wp-content/uploads/2022/06/2022-Sarah-Shank-City-Amateur-pleasant-run-sarah-shank-Facebook-Event-Cover.png
END:VEVENT
BEGIN:VEVENT
DTSTART;VALUE=DATE:20221121
DTEND;VALUE=DATE:20221128
DTSTAMP:20260424T005903
CREATED:20221121T050107Z
LAST-MODIFIED:20221108T152346Z
UID:6992-1668988800-1669593599@prssgolf.com
SUMMARY:Black Friday
DESCRIPTION:Save on Gifts for the Special golfer in your life!\nIt’s the holidays- skip the stress of shopping & spend more time with your family!\nShop our Black Friday specials to get all your gifts in one place. \nGift Cards – 25% OFF\n$50 Gift Card for $37.50\n$100 Gift Card for $75.00\n$150 Gift card for $112.50\n$200 Gift Card for $150.00\n$500 Gift Card for $375.00 \nGift Cards are not good for Membership
URL:https://prssgolf.com/event/black-friday-3/
CATEGORIES:Sarah Shank
END:VEVENT
BEGIN:VEVENT
DTSTART;VALUE=DATE:20221121
DTEND;VALUE=DATE:20221128
DTSTAMP:20260424T005903
CREATED:20221121T050122Z
LAST-MODIFIED:20221107T160732Z
UID:6953-1668988800-1669593599@prssgolf.com
SUMMARY:Black Friday
DESCRIPTION:GOLF IS THE PERFECT GIFT\nIt’s the holidays- skip the stress of shopping & spend more time with your family! \nShop our Black Friday specials and save on golf \nGift Cards – 25% OFF\n*Gift Cards are not good for Membership \nSALE ENDS NOVEMBER 27th
URL:https://prssgolf.com/event/black-friday-2/
CATEGORIES:Pleasant Run
END:VEVENT
BEGIN:VEVENT
DTSTART;VALUE=DATE:20231124
DTEND;VALUE=DATE:20231128
DTSTAMP:20260424T005903
CREATED:20231109T154702Z
LAST-MODIFIED:20231109T154702Z
UID:7489-1700784000-1701129599@prssgolf.com
SUMMARY:Black Friday
DESCRIPTION:  \n\n 
URL:https://prssgolf.com/event/black-friday-4/
ATTACH;FMTTYPE=image/png:https://prssgolf.com/wp-content/uploads/2023/11/BF-2023-Sarah-ShankPleasant-Run-IN-Black-Friday-Sale-Dates-fb-banner-1920-x-1005-px.png
END:VEVENT
BEGIN:VEVENT
DTSTART;VALUE=DATE:20231127
DTEND;VALUE=DATE:20231128
DTSTAMP:20260424T005903
CREATED:20231109T154737Z
LAST-MODIFIED:20231109T154737Z
UID:7492-1701043200-1701129599@prssgolf.com
SUMMARY:Cyber Monday
DESCRIPTION:  \n\n 
URL:https://prssgolf.com/event/cyber-monday/
ATTACH;FMTTYPE=image/png:https://prssgolf.com/wp-content/uploads/2023/11/3-19.png
END:VEVENT
BEGIN:VEVENT
DTSTART;VALUE=DATE:20250712
DTEND;VALUE=DATE:20250713
DTSTAMP:20260424T005903
CREATED:20250213T184939Z
LAST-MODIFIED:20250213T184939Z
UID:8040-1752278400-1752364799@prssgolf.com
SUMMARY:East Side Amateur at Pleasant Run Golf Course
DESCRIPTION:
URL:https://prssgolf.com/event/east-side-amateur-at-pleasant-run-golf-course/
END:VEVENT
BEGIN:VEVENT
DTSTART;VALUE=DATE:20250726
DTEND;VALUE=DATE:20250727
DTSTAMP:20260424T005903
CREATED:20250213T185037Z
LAST-MODIFIED:20250213T185037Z
UID:8043-1753488000-1753574399@prssgolf.com
SUMMARY:Indianapolis City Amateur at Sarah Shank Golf Course
DESCRIPTION:
URL:https://prssgolf.com/event/indianapolis-city-amateur-at-sarah-shank-golf-course/
END:VEVENT
END:VCALENDAR