BEGIN:VCALENDAR
VERSION:2.0
PRODID:-//Pleasant Run, Sarah Shank &amp; Whispering Hills - ECPv6.15.15//NONSGML v1.0//EN
CALSCALE:GREGORIAN
METHOD:PUBLISH
X-ORIGINAL-URL:https://prssgolf.com
X-WR-CALDESC:Events for Pleasant Run, Sarah Shank &amp; Whispering Hills
REFRESH-INTERVAL;VALUE=DURATION:PT1H
X-Robots-Tag:noindex
X-PUBLISHED-TTL:PT1H
BEGIN:VTIMEZONE
TZID:America/Toronto
BEGIN:DAYLIGHT
TZOFFSETFROM:-0500
TZOFFSETTO:-0400
TZNAME:EDT
DTSTART:20210314T070000
END:DAYLIGHT
BEGIN:STANDARD
TZOFFSETFROM:-0400
TZOFFSETTO:-0500
TZNAME:EST
DTSTART:20211107T060000
END:STANDARD
BEGIN:DAYLIGHT
TZOFFSETFROM:-0500
TZOFFSETTO:-0400
TZNAME:EDT
DTSTART:20220313T070000
END:DAYLIGHT
BEGIN:STANDARD
TZOFFSETFROM:-0400
TZOFFSETTO:-0500
TZNAME:EST
DTSTART:20221106T060000
END:STANDARD
BEGIN:DAYLIGHT
TZOFFSETFROM:-0500
TZOFFSETTO:-0400
TZNAME:EDT
DTSTART:20230312T070000
END:DAYLIGHT
BEGIN:STANDARD
TZOFFSETFROM:-0400
TZOFFSETTO:-0500
TZNAME:EST
DTSTART:20231105T060000
END:STANDARD
END:VTIMEZONE
BEGIN:VEVENT
DTSTART;TZID=America/Toronto:20220709T061500
DTEND;TZID=America/Toronto:20220709T131500
DTSTAMP:20260423T210108
CREATED:20220617T130017Z
LAST-MODIFIED:20220617T130017Z
UID:6831-1657347300-1657372500@prssgolf.com
SUMMARY:67th Amateur Tournament
DESCRIPTION:Pleasant Run Golf Course\n67th Annual Eastside Amateur\nSaturday\, July 9th\, 2022\nTee Times available from 6:15am – 1:15pm \n18-Hole Stroke Play\n$40 Entry Fee | Plus Green Fees & Cart \nLow Gross\nLow Net with 2 Divisions | Bankers or Blue Golf\nSenior Division | Age 50 and Up \nTournament Information\n\nPlayer must declare before teeing off which net division they would like; bankers or blue golf\nPlayers can pick their own groups of 3 or be paired individually\nSkin Pot in included\nPlayer will receive single highest award possible\nCloset to the Pin & Long Drive Contests\nNo entries accepted without entry fee\, enter over phone with Visa or Master Card\nAll Greens fees and Cart fees to be paid day of the tournament\n\nFor more information or to sign up please contact the Golf Shop at (317) 357-0829.
URL:https://prssgolf.com/event/67th-amateur-tournament/
CATEGORIES:Pleasant Run
ATTACH;FMTTYPE=image/png:https://prssgolf.com/wp-content/uploads/2022/06/67th-Annual-Eastside-Amateur-pleasant-run-sarah-shank-Facebook-Event-Cover.png
END:VEVENT
BEGIN:VEVENT
DTSTART;VALUE=DATE:20220723
DTEND;VALUE=DATE:20220724
DTSTAMP:20260423T210108
CREATED:20220630T123816Z
LAST-MODIFIED:20220630T123816Z
UID:6869-1658534400-1658620799@prssgolf.com
SUMMARY:City Amateur
DESCRIPTION:Indianapolis City Amateur\nPresented by Central Indiana McDonald’s – Sarah Shank Golf Course\nJuly 23rd & 24th\n36-Hole Stroke Play Event \nOverall Champion\nSenior (50) Champion\nHandicap Champion \nEntry Fee $85.00/person \nWalking is complimentary for both days\nCart Fee of $18 for those riding each day \nEntries can be mailed in to:\nSarah Shank GC\n2901 S. Keystone Ave.\nIndianapolis\, IN 46203 \nor called in over the phone to (317) 784-0631.
URL:https://prssgolf.com/event/city-amateur/
CATEGORIES:Sarah Shank
ATTACH;FMTTYPE=image/png:https://prssgolf.com/wp-content/uploads/2022/06/2022-Sarah-Shank-City-Amateur-pleasant-run-sarah-shank-Facebook-Event-Cover.png
END:VEVENT
BEGIN:VEVENT
DTSTART;VALUE=DATE:20220724
DTEND;VALUE=DATE:20220725
DTSTAMP:20260423T210108
CREATED:20220630T123844Z
LAST-MODIFIED:20220630T123844Z
UID:6875-1658620800-1658707199@prssgolf.com
SUMMARY:City Amateur
DESCRIPTION:Indianapolis City Amateur\nPresented by Central Indiana McDonald’s – Sarah Shank Golf Course\nJuly 23rd & 24th\n36-Hole Stroke Play Event \nOverall Champion\nSenior (50) Champion\nHandicap Champion \nEntry Fee $85.00/person \nWalking is complimentary for both days\nCart Fee of $18 for those riding each day \nEntries can be mailed in to:\nSarah Shank GC\n2901 S. Keystone Ave.\nIndianapolis\, IN 46203 \nor called in over the phone to (317) 784-0631.
URL:https://prssgolf.com/event/city-amateur-2/
CATEGORIES:Sarah Shank
ATTACH;FMTTYPE=image/png:https://prssgolf.com/wp-content/uploads/2022/06/2022-Sarah-Shank-City-Amateur-pleasant-run-sarah-shank-Facebook-Event-Cover.png
END:VEVENT
END:VCALENDAR